BEGIN:VCALENDAR
VERSION:2.0
PRODID:-//Cradle to Cradle NGO - ECPv6.15.18//NONSGML v1.0//EN
CALSCALE:GREGORIAN
METHOD:PUBLISH
X-ORIGINAL-URL:https://c2c.ngo/en/
X-WR-CALDESC:Events for Cradle to Cradle NGO
REFRESH-INTERVAL;VALUE=DURATION:PT1H
X-Robots-Tag:noindex
X-PUBLISHED-TTL:PT1H
BEGIN:VTIMEZONE
TZID:Europe/Berlin
BEGIN:DAYLIGHT
TZOFFSETFROM:+0100
TZOFFSETTO:+0200
TZNAME:CEST
DTSTART:20200329T010000
END:DAYLIGHT
BEGIN:STANDARD
TZOFFSETFROM:+0200
TZOFFSETTO:+0100
TZNAME:CET
DTSTART:20201025T010000
END:STANDARD
BEGIN:DAYLIGHT
TZOFFSETFROM:+0100
TZOFFSETTO:+0200
TZNAME:CEST
DTSTART:20210328T010000
END:DAYLIGHT
BEGIN:STANDARD
TZOFFSETFROM:+0200
TZOFFSETTO:+0100
TZNAME:CET
DTSTART:20211031T010000
END:STANDARD
BEGIN:DAYLIGHT
TZOFFSETFROM:+0100
TZOFFSETTO:+0200
TZNAME:CEST
DTSTART:20220327T010000
END:DAYLIGHT
BEGIN:STANDARD
TZOFFSETFROM:+0200
TZOFFSETTO:+0100
TZNAME:CET
DTSTART:20221030T010000
END:STANDARD
END:VTIMEZONE
BEGIN:VEVENT
DTSTART;VALUE=DATE:20211011
DTEND;VALUE=DATE:20211016
DTSTAMP:20260419T230525
CREATED:20210816T140232Z
LAST-MODIFIED:20210816T140232Z
UID:206648-1633910400-1634342399@c2c.ngo
SUMMARY:Herbst-Akademie 2021
DESCRIPTION:Vorstellung des Leitfadens für eine strategische Beschaffung nach Cradle to CradleDie öffentliche Beschaffung ist ein enormer wirtschaftlicher Hebel. Schätzungen zufolge kaufen Bund\, Länder und Kommunen jährlich für 350-500 Milliarden Euro ein. 40-60 % dieses Volumens entfallen auf Städte und Gemeinden. Wir freuen uns\, unseren Beschaffungsleitfaden nach Cradle to Cradle vorzustellen\, der sich an Akteur*innen der kommunalen Beschaffung richtet. Dieser Leitfaden soll das Verständnis für Cradle to Cradle bei der öffentlichen Produktbeschaffung fördern sowie Denkanstöße und Hilfestellungen geben.   >> zum Online-Event >> zur Anmeldung 								\n				\n				\n				\n							\n			\n						\n		\n						\n				\n				\n				\n					Programm				\n				\n					\n		\n					\n		\n				\n						\n					\n			\n						\n						\n					\n			\n						\n				\n					10:00 Uhr				\n				\n					\n		\n					\n		\n					\n		\n				\n			\n						\n						\n					\n			\n						\n				\n					Begrüßung durch C2C NGO				\n				\n					\n		\n					\n		\n					\n		\n					\n		\n				\n						\n					\n			\n						\n						\n					\n			\n						\n				\n					10:15 Uhr				\n				\n					\n		\n					\n		\n					\n		\n				\n			\n						\n						\n					\n			\n						\n				\n					Cradle to Cradle Denkschule & Netzwerk C2C Regionen				\n				\n					\n		\n					\n		\n					\n		\n					\n		\n				\n						\n					\n			\n						\n						\n					\n			\n						\n				\n					10:30 Uhr				\n				\n					\n		\n					\n		\n					\n		\n				\n			\n						\n						\n					\n			\n						\n				\n					Interview der C2C Modellregion Lüchow-Dannenberg & Landkreis Lüneburg				\n				\n				\n				\n									Dr. Svenja Damberg | Senior Research Fellow an der Technischen Universität Hamburg								\n				\n					\n		\n					\n		\n					\n		\n					\n		\n				\n						\n					\n			\n						\n						\n					\n			\n						\n				\n					10:40 Uhr				\n				\n					\n		\n					\n		\n					\n		\n				\n			\n						\n						\n					\n			\n						\n				\n					Präsentation des Beschaffungsleitfadens				\n				\n					\n		\n					\n		\n					\n		\n					\n		\n				\n						\n					\n			\n						\n						\n					\n			\n						\n				\n					10:55 Uhr				\n				\n					\n		\n					\n		\n					\n		\n				\n			\n						\n						\n					\n			\n						\n				\n					Beschaffungspraxis nach C2C von der Stadt Ludwigsburg				\n				\n				\n				\n									Patrick Alex | Kompetenzstelle für nachhaltige Beschaffung bei der Stadt Ludwigsburg								\n				\n					\n		\n					\n		\n					\n		\n					\n		\n				\n						\n					\n			\n						\n						\n					\n			\n						\n				\n					11:10 Uhr				\n				\n					\n		\n					\n		\n					\n		\n				\n			\n						\n						\n					\n			\n						\n				\n					Panel: Wie kann eine Beschaffung nach C2C gelingen?				\n				\n				\n				\n									Patrick Alex | Kompetenzstelle für nachhaltige Beschaffung bei der Stadt LudwigsburgBarbara Lersch | Projektleiterin bei der Hans Sauer StiftungAndré Siedenberg | Rechtsanwalt\, Kommunale Beschaffung bei der Kommunal Agentur NRWLorena Zangl | Moderation\, Konzeption & Beratung bei ressourcenwunder								\n				\n					\n		\n					\n		\n					\n		\n					\n		\n				\n						\n					\n			\n						\n						\n					\n			\n						\n				\n					11:55 Uhr				\n				\n					\n		\n					\n		\n					\n		\n				\n			\n						\n						\n					\n			\n						\n				\n					Fragen & Diskussion				\n				\n					\n		\n					\n		\n					\n		\n					\n		\n				\n						\n					\n			\n						\n						\n					\n			\n						\n				\n					12:25 Uhr				\n				\n					\n		\n					\n		\n					\n		\n				\n			\n						\n						\n					\n			\n						\n				\n					Abschluss				\n				\n					\n		\n					\n		\n					\n		\n					\n		\n				\n						\n					\n			\n						\n						\n					\n			\n						\n				\n					12:30 Uhr				\n				\n					\n		\n					\n		\n					\n		\n				\n			\n						\n						\n					\n			\n						\n				\n					ende				\n				\n					\n		\n					\n		\n					\n		\n					\n		\n				\n						\n					\n			\n						\n				\n									>> zur Anmeldung
URL:https://c2c.ngo/en/event/herbst-akademie-2021/
ATTACH;FMTTYPE=image/jpeg:https://c2c.ngo/wp-content/uploads/2021/08/Insta-Event-EHR-1.jpg
END:VEVENT
BEGIN:VEVENT
DTSTART;VALUE=DATE:20210915
DTEND;VALUE=DATE:20210916
DTSTAMP:20260419T230526
CREATED:20210817T132351Z
LAST-MODIFIED:20210817T132726Z
UID:206661-1631664000-1631750399@c2c.ngo
SUMMARY:Nachhaltiger Neubau und Refurbishment: Klimahaus A\, Cradle to Cradle\, Impact Hospitality
DESCRIPTION:Vorstellung des Leitfadens für eine strategische Beschaffung nach Cradle to CradleDie öffentliche Beschaffung ist ein enormer wirtschaftlicher Hebel. Schätzungen zufolge kaufen Bund\, Länder und Kommunen jährlich für 350-500 Milliarden Euro ein. 40-60 % dieses Volumens entfallen auf Städte und Gemeinden. Wir freuen uns\, unseren Beschaffungsleitfaden nach Cradle to Cradle vorzustellen\, der sich an Akteur*innen der kommunalen Beschaffung richtet. Dieser Leitfaden soll das Verständnis für Cradle to Cradle bei der öffentlichen Produktbeschaffung fördern sowie Denkanstöße und Hilfestellungen geben.   >> zum Online-Event >> zur Anmeldung 								\n				\n				\n				\n							\n			\n						\n		\n						\n				\n				\n				\n					Programm				\n				\n					\n		\n					\n		\n				\n						\n					\n			\n						\n						\n					\n			\n						\n				\n					10:00 Uhr				\n				\n					\n		\n					\n		\n					\n		\n				\n			\n						\n						\n					\n			\n						\n				\n					Begrüßung durch C2C NGO				\n				\n					\n		\n					\n		\n					\n		\n					\n		\n				\n						\n					\n			\n						\n						\n					\n			\n						\n				\n					10:15 Uhr				\n				\n					\n		\n					\n		\n					\n		\n				\n			\n						\n						\n					\n			\n						\n				\n					Cradle to Cradle Denkschule & Netzwerk C2C Regionen				\n				\n					\n		\n					\n		\n					\n		\n					\n		\n				\n						\n					\n			\n						\n						\n					\n			\n						\n				\n					10:30 Uhr				\n				\n					\n		\n					\n		\n					\n		\n				\n			\n						\n						\n					\n			\n						\n				\n					Interview der C2C Modellregion Lüchow-Dannenberg & Landkreis Lüneburg				\n				\n				\n				\n									Dr. Svenja Damberg | Senior Research Fellow an der Technischen Universität Hamburg								\n				\n					\n		\n					\n		\n					\n		\n					\n		\n				\n						\n					\n			\n						\n						\n					\n			\n						\n				\n					10:40 Uhr				\n				\n					\n		\n					\n		\n					\n		\n				\n			\n						\n						\n					\n			\n						\n				\n					Präsentation des Beschaffungsleitfadens				\n				\n					\n		\n					\n		\n					\n		\n					\n		\n				\n						\n					\n			\n						\n						\n					\n			\n						\n				\n					10:55 Uhr				\n				\n					\n		\n					\n		\n					\n		\n				\n			\n						\n						\n					\n			\n						\n				\n					Beschaffungspraxis nach C2C von der Stadt Ludwigsburg				\n				\n				\n				\n									Patrick Alex | Kompetenzstelle für nachhaltige Beschaffung bei der Stadt Ludwigsburg								\n				\n					\n		\n					\n		\n					\n		\n					\n		\n				\n						\n					\n			\n						\n						\n					\n			\n						\n				\n					11:10 Uhr				\n				\n					\n		\n					\n		\n					\n		\n				\n			\n						\n						\n					\n			\n						\n				\n					Panel: Wie kann eine Beschaffung nach C2C gelingen?				\n				\n				\n				\n									Patrick Alex | Kompetenzstelle für nachhaltige Beschaffung bei der Stadt LudwigsburgBarbara Lersch | Projektleiterin bei der Hans Sauer StiftungAndré Siedenberg | Rechtsanwalt\, Kommunale Beschaffung bei der Kommunal Agentur NRWLorena Zangl | Moderation\, Konzeption & Beratung bei ressourcenwunder								\n				\n					\n		\n					\n		\n					\n		\n					\n		\n				\n						\n					\n			\n						\n						\n					\n			\n						\n				\n					11:55 Uhr				\n				\n					\n		\n					\n		\n					\n		\n				\n			\n						\n						\n					\n			\n						\n				\n					Fragen & Diskussion				\n				\n					\n		\n					\n		\n					\n		\n					\n		\n				\n						\n					\n			\n						\n						\n					\n			\n						\n				\n					12:25 Uhr				\n				\n					\n		\n					\n		\n					\n		\n				\n			\n						\n						\n					\n			\n						\n				\n					Abschluss				\n				\n					\n		\n					\n		\n					\n		\n					\n		\n				\n						\n					\n			\n						\n						\n					\n			\n						\n				\n					12:30 Uhr				\n				\n					\n		\n					\n		\n					\n		\n				\n			\n						\n						\n					\n			\n						\n				\n					ende				\n				\n					\n		\n					\n		\n					\n		\n					\n		\n				\n						\n					\n			\n						\n				\n									>> zur Anmeldung
URL:https://c2c.ngo/en/event/%f0%9d%97%a1%f0%9d%97%ae%f0%9d%97%b0%f0%9d%97%b5%f0%9d%97%b5%f0%9d%97%ae%f0%9d%97%b9%f0%9d%98%81%f0%9d%97%b6%f0%9d%97%b4%f0%9d%97%b2%f0%9d%97%bf-%f0%9d%97%a1%f0%9d%97%b2%f0%9d%98%82%f0%9d%97%af/
ATTACH;FMTTYPE=image/jpeg:https://c2c.ngo/wp-content/uploads/2021/08/elevatr.jpg
END:VEVENT
BEGIN:VEVENT
DTSTART;VALUE=DATE:20210914
DTEND;VALUE=DATE:20210915
DTSTAMP:20260419T230526
CREATED:20210817T141123Z
LAST-MODIFIED:20210823T094735Z
UID:206667-1631577600-1631663999@c2c.ngo
SUMMARY:NAX (Netzwerk Architektur Export): Cradle to Cradle international – Nachhaltig Bauen vom Spatenstich zur Abrissbirne
DESCRIPTION:Vorstellung des Leitfadens für eine strategische Beschaffung nach Cradle to CradleDie öffentliche Beschaffung ist ein enormer wirtschaftlicher Hebel. Schätzungen zufolge kaufen Bund\, Länder und Kommunen jährlich für 350-500 Milliarden Euro ein. 40-60 % dieses Volumens entfallen auf Städte und Gemeinden. Wir freuen uns\, unseren Beschaffungsleitfaden nach Cradle to Cradle vorzustellen\, der sich an Akteur*innen der kommunalen Beschaffung richtet. Dieser Leitfaden soll das Verständnis für Cradle to Cradle bei der öffentlichen Produktbeschaffung fördern sowie Denkanstöße und Hilfestellungen geben.   >> zum Online-Event >> zur Anmeldung 								\n				\n				\n				\n							\n			\n						\n		\n						\n				\n				\n				\n					Programm				\n				\n					\n		\n					\n		\n				\n						\n					\n			\n						\n						\n					\n			\n						\n				\n					10:00 Uhr				\n				\n					\n		\n					\n		\n					\n		\n				\n			\n						\n						\n					\n			\n						\n				\n					Begrüßung durch C2C NGO				\n				\n					\n		\n					\n		\n					\n		\n					\n		\n				\n						\n					\n			\n						\n						\n					\n			\n						\n				\n					10:15 Uhr				\n				\n					\n		\n					\n		\n					\n		\n				\n			\n						\n						\n					\n			\n						\n				\n					Cradle to Cradle Denkschule & Netzwerk C2C Regionen				\n				\n					\n		\n					\n		\n					\n		\n					\n		\n				\n						\n					\n			\n						\n						\n					\n			\n						\n				\n					10:30 Uhr				\n				\n					\n		\n					\n		\n					\n		\n				\n			\n						\n						\n					\n			\n						\n				\n					Interview der C2C Modellregion Lüchow-Dannenberg & Landkreis Lüneburg				\n				\n				\n				\n									Dr. Svenja Damberg | Senior Research Fellow an der Technischen Universität Hamburg								\n				\n					\n		\n					\n		\n					\n		\n					\n		\n				\n						\n					\n			\n						\n						\n					\n			\n						\n				\n					10:40 Uhr				\n				\n					\n		\n					\n		\n					\n		\n				\n			\n						\n						\n					\n			\n						\n				\n					Präsentation des Beschaffungsleitfadens				\n				\n					\n		\n					\n		\n					\n		\n					\n		\n				\n						\n					\n			\n						\n						\n					\n			\n						\n				\n					10:55 Uhr				\n				\n					\n		\n					\n		\n					\n		\n				\n			\n						\n						\n					\n			\n						\n				\n					Beschaffungspraxis nach C2C von der Stadt Ludwigsburg				\n				\n				\n				\n									Patrick Alex | Kompetenzstelle für nachhaltige Beschaffung bei der Stadt Ludwigsburg								\n				\n					\n		\n					\n		\n					\n		\n					\n		\n				\n						\n					\n			\n						\n						\n					\n			\n						\n				\n					11:10 Uhr				\n				\n					\n		\n					\n		\n					\n		\n				\n			\n						\n						\n					\n			\n						\n				\n					Panel: Wie kann eine Beschaffung nach C2C gelingen?				\n				\n				\n				\n									Patrick Alex | Kompetenzstelle für nachhaltige Beschaffung bei der Stadt LudwigsburgBarbara Lersch | Projektleiterin bei der Hans Sauer StiftungAndré Siedenberg | Rechtsanwalt\, Kommunale Beschaffung bei der Kommunal Agentur NRWLorena Zangl | Moderation\, Konzeption & Beratung bei ressourcenwunder								\n				\n					\n		\n					\n		\n					\n		\n					\n		\n				\n						\n					\n			\n						\n						\n					\n			\n						\n				\n					11:55 Uhr				\n				\n					\n		\n					\n		\n					\n		\n				\n			\n						\n						\n					\n			\n						\n				\n					Fragen & Diskussion				\n				\n					\n		\n					\n		\n					\n		\n					\n		\n				\n						\n					\n			\n						\n						\n					\n			\n						\n				\n					12:25 Uhr				\n				\n					\n		\n					\n		\n					\n		\n				\n			\n						\n						\n					\n			\n						\n				\n					Abschluss				\n				\n					\n		\n					\n		\n					\n		\n					\n		\n				\n						\n					\n			\n						\n						\n					\n			\n						\n				\n					12:30 Uhr				\n				\n					\n		\n					\n		\n					\n		\n				\n			\n						\n						\n					\n			\n						\n				\n					ende				\n				\n					\n		\n					\n		\n					\n		\n					\n		\n				\n						\n					\n			\n						\n				\n									>> zur Anmeldung
URL:https://c2c.ngo/en/event/nax-netzwerk-architektur-export-cradle-to-cradle-international-nachhaltig-bauen-vom-spatenstich-zur-abrissbirne/
ATTACH;FMTTYPE=image/jpeg:https://c2c.ngo/wp-content/uploads/2021/05/1.jpg
END:VEVENT
BEGIN:VEVENT
DTSTART;VALUE=DATE:20210907
DTEND;VALUE=DATE:20210908
DTSTAMP:20260419T230526
CREATED:20210401T132801Z
LAST-MODIFIED:20210902T070915Z
UID:733-1630972800-1631059199@c2c.ngo
SUMMARY:7. Internationaler Cradle to Cradle Congress 2021: Etappe 2/3 – digital
DESCRIPTION:Vorstellung des Leitfadens für eine strategische Beschaffung nach Cradle to CradleDie öffentliche Beschaffung ist ein enormer wirtschaftlicher Hebel. Schätzungen zufolge kaufen Bund\, Länder und Kommunen jährlich für 350-500 Milliarden Euro ein. 40-60 % dieses Volumens entfallen auf Städte und Gemeinden. Wir freuen uns\, unseren Beschaffungsleitfaden nach Cradle to Cradle vorzustellen\, der sich an Akteur*innen der kommunalen Beschaffung richtet. Dieser Leitfaden soll das Verständnis für Cradle to Cradle bei der öffentlichen Produktbeschaffung fördern sowie Denkanstöße und Hilfestellungen geben.   >> zum Online-Event >> zur Anmeldung 								\n				\n				\n				\n							\n			\n						\n		\n						\n				\n				\n				\n					Programm				\n				\n					\n		\n					\n		\n				\n						\n					\n			\n						\n						\n					\n			\n						\n				\n					10:00 Uhr				\n				\n					\n		\n					\n		\n					\n		\n				\n			\n						\n						\n					\n			\n						\n				\n					Begrüßung durch C2C NGO				\n				\n					\n		\n					\n		\n					\n		\n					\n		\n				\n						\n					\n			\n						\n						\n					\n			\n						\n				\n					10:15 Uhr				\n				\n					\n		\n					\n		\n					\n		\n				\n			\n						\n						\n					\n			\n						\n				\n					Cradle to Cradle Denkschule & Netzwerk C2C Regionen				\n				\n					\n		\n					\n		\n					\n		\n					\n		\n				\n						\n					\n			\n						\n						\n					\n			\n						\n				\n					10:30 Uhr				\n				\n					\n		\n					\n		\n					\n		\n				\n			\n						\n						\n					\n			\n						\n				\n					Interview der C2C Modellregion Lüchow-Dannenberg & Landkreis Lüneburg				\n				\n				\n				\n									Dr. Svenja Damberg | Senior Research Fellow an der Technischen Universität Hamburg								\n				\n					\n		\n					\n		\n					\n		\n					\n		\n				\n						\n					\n			\n						\n						\n					\n			\n						\n				\n					10:40 Uhr				\n				\n					\n		\n					\n		\n					\n		\n				\n			\n						\n						\n					\n			\n						\n				\n					Präsentation des Beschaffungsleitfadens				\n				\n					\n		\n					\n		\n					\n		\n					\n		\n				\n						\n					\n			\n						\n						\n					\n			\n						\n				\n					10:55 Uhr				\n				\n					\n		\n					\n		\n					\n		\n				\n			\n						\n						\n					\n			\n						\n				\n					Beschaffungspraxis nach C2C von der Stadt Ludwigsburg				\n				\n				\n				\n									Patrick Alex | Kompetenzstelle für nachhaltige Beschaffung bei der Stadt Ludwigsburg								\n				\n					\n		\n					\n		\n					\n		\n					\n		\n				\n						\n					\n			\n						\n						\n					\n			\n						\n				\n					11:10 Uhr				\n				\n					\n		\n					\n		\n					\n		\n				\n			\n						\n						\n					\n			\n						\n				\n					Panel: Wie kann eine Beschaffung nach C2C gelingen?				\n				\n				\n				\n									Patrick Alex | Kompetenzstelle für nachhaltige Beschaffung bei der Stadt LudwigsburgBarbara Lersch | Projektleiterin bei der Hans Sauer StiftungAndré Siedenberg | Rechtsanwalt\, Kommunale Beschaffung bei der Kommunal Agentur NRWLorena Zangl | Moderation\, Konzeption & Beratung bei ressourcenwunder								\n				\n					\n		\n					\n		\n					\n		\n					\n		\n				\n						\n					\n			\n						\n						\n					\n			\n						\n				\n					11:55 Uhr				\n				\n					\n		\n					\n		\n					\n		\n				\n			\n						\n						\n					\n			\n						\n				\n					Fragen & Diskussion				\n				\n					\n		\n					\n		\n					\n		\n					\n		\n				\n						\n					\n			\n						\n						\n					\n			\n						\n				\n					12:25 Uhr				\n				\n					\n		\n					\n		\n					\n		\n				\n			\n						\n						\n					\n			\n						\n				\n					Abschluss				\n				\n					\n		\n					\n		\n					\n		\n					\n		\n				\n						\n					\n			\n						\n						\n					\n			\n						\n				\n					12:30 Uhr				\n				\n					\n		\n					\n		\n					\n		\n				\n			\n						\n						\n					\n			\n						\n				\n					ende				\n				\n					\n		\n					\n		\n					\n		\n					\n		\n				\n						\n					\n			\n						\n				\n									>> zur Anmeldung
URL:https://c2c.ngo/en/event/c2cc21-etappe-1/
LOCATION:Mainz Rheingoldhalle\, Rheinstraße 66\, Mainz\, 55116
ATTACH;FMTTYPE=image/jpeg:https://c2c.ngo/wp-content/uploads/2021/06/mainz_congress-etappe.jpeg
END:VEVENT
BEGIN:VEVENT
DTSTART;VALUE=DATE:20210714
DTEND;VALUE=DATE:20210715
DTSTAMP:20260419T230526
CREATED:20210601T123627Z
LAST-MODIFIED:20210712T094137Z
UID:15373-1626220800-1626307199@c2c.ngo
SUMMARY:7. Internationaler Cradle to Cradle Congress 2021: Etappe 1/3 in Freiburg
DESCRIPTION:Vorstellung des Leitfadens für eine strategische Beschaffung nach Cradle to CradleDie öffentliche Beschaffung ist ein enormer wirtschaftlicher Hebel. Schätzungen zufolge kaufen Bund\, Länder und Kommunen jährlich für 350-500 Milliarden Euro ein. 40-60 % dieses Volumens entfallen auf Städte und Gemeinden. Wir freuen uns\, unseren Beschaffungsleitfaden nach Cradle to Cradle vorzustellen\, der sich an Akteur*innen der kommunalen Beschaffung richtet. Dieser Leitfaden soll das Verständnis für Cradle to Cradle bei der öffentlichen Produktbeschaffung fördern sowie Denkanstöße und Hilfestellungen geben.   >> zum Online-Event >> zur Anmeldung 								\n				\n				\n				\n							\n			\n						\n		\n						\n				\n				\n				\n					Programm				\n				\n					\n		\n					\n		\n				\n						\n					\n			\n						\n						\n					\n			\n						\n				\n					10:00 Uhr				\n				\n					\n		\n					\n		\n					\n		\n				\n			\n						\n						\n					\n			\n						\n				\n					Begrüßung durch C2C NGO				\n				\n					\n		\n					\n		\n					\n		\n					\n		\n				\n						\n					\n			\n						\n						\n					\n			\n						\n				\n					10:15 Uhr				\n				\n					\n		\n					\n		\n					\n		\n				\n			\n						\n						\n					\n			\n						\n				\n					Cradle to Cradle Denkschule & Netzwerk C2C Regionen				\n				\n					\n		\n					\n		\n					\n		\n					\n		\n				\n						\n					\n			\n						\n						\n					\n			\n						\n				\n					10:30 Uhr				\n				\n					\n		\n					\n		\n					\n		\n				\n			\n						\n						\n					\n			\n						\n				\n					Interview der C2C Modellregion Lüchow-Dannenberg & Landkreis Lüneburg				\n				\n				\n				\n									Dr. Svenja Damberg | Senior Research Fellow an der Technischen Universität Hamburg								\n				\n					\n		\n					\n		\n					\n		\n					\n		\n				\n						\n					\n			\n						\n						\n					\n			\n						\n				\n					10:40 Uhr				\n				\n					\n		\n					\n		\n					\n		\n				\n			\n						\n						\n					\n			\n						\n				\n					Präsentation des Beschaffungsleitfadens				\n				\n					\n		\n					\n		\n					\n		\n					\n		\n				\n						\n					\n			\n						\n						\n					\n			\n						\n				\n					10:55 Uhr				\n				\n					\n		\n					\n		\n					\n		\n				\n			\n						\n						\n					\n			\n						\n				\n					Beschaffungspraxis nach C2C von der Stadt Ludwigsburg				\n				\n				\n				\n									Patrick Alex | Kompetenzstelle für nachhaltige Beschaffung bei der Stadt Ludwigsburg								\n				\n					\n		\n					\n		\n					\n		\n					\n		\n				\n						\n					\n			\n						\n						\n					\n			\n						\n				\n					11:10 Uhr				\n				\n					\n		\n					\n		\n					\n		\n				\n			\n						\n						\n					\n			\n						\n				\n					Panel: Wie kann eine Beschaffung nach C2C gelingen?				\n				\n				\n				\n									Patrick Alex | Kompetenzstelle für nachhaltige Beschaffung bei der Stadt LudwigsburgBarbara Lersch | Projektleiterin bei der Hans Sauer StiftungAndré Siedenberg | Rechtsanwalt\, Kommunale Beschaffung bei der Kommunal Agentur NRWLorena Zangl | Moderation\, Konzeption & Beratung bei ressourcenwunder								\n				\n					\n		\n					\n		\n					\n		\n					\n		\n				\n						\n					\n			\n						\n						\n					\n			\n						\n				\n					11:55 Uhr				\n				\n					\n		\n					\n		\n					\n		\n				\n			\n						\n						\n					\n			\n						\n				\n					Fragen & Diskussion				\n				\n					\n		\n					\n		\n					\n		\n					\n		\n				\n						\n					\n			\n						\n						\n					\n			\n						\n				\n					12:25 Uhr				\n				\n					\n		\n					\n		\n					\n		\n				\n			\n						\n						\n					\n			\n						\n				\n					Abschluss				\n				\n					\n		\n					\n		\n					\n		\n					\n		\n				\n						\n					\n			\n						\n						\n					\n			\n						\n				\n					12:30 Uhr				\n				\n					\n		\n					\n		\n					\n		\n				\n			\n						\n						\n					\n			\n						\n				\n					ende				\n				\n					\n		\n					\n		\n					\n		\n					\n		\n				\n						\n					\n			\n						\n				\n									>> zur Anmeldung
URL:https://c2c.ngo/en/event/7-internationaler-cradle-to-cradle-congress-2021-etappe-1-3/
LOCATION:Freiburg Messe\, Neuer Messplatz 1\, Freiburg\, 79108
ATTACH;FMTTYPE=image/jpeg:https://c2c.ngo/wp-content/uploads/2021/06/freiburg_congress_etappe-1.jpeg
END:VEVENT
END:VCALENDAR